BEGIN:VCALENDAR
VERSION:2.0
PRODID:-//La CAPSETA de MÚSICA - ECPv6.15.20//NONSGML v1.0//EN
CALSCALE:GREGORIAN
METHOD:PUBLISH
X-WR-CALNAME:La CAPSETA de MÚSICA
X-ORIGINAL-URL:https://lacapsetademusica.cat
X-WR-CALDESC:Esdeveniments per La CAPSETA de MÚSICA
REFRESH-INTERVAL;VALUE=DURATION:PT1H
X-Robots-Tag:noindex
X-PUBLISHED-TTL:PT1H
BEGIN:VTIMEZONE
TZID:Europe/Paris
BEGIN:DAYLIGHT
TZOFFSETFROM:+0100
TZOFFSETTO:+0200
TZNAME:CEST
DTSTART:20240331T010000
END:DAYLIGHT
BEGIN:STANDARD
TZOFFSETFROM:+0200
TZOFFSETTO:+0100
TZNAME:CET
DTSTART:20241027T010000
END:STANDARD
BEGIN:DAYLIGHT
TZOFFSETFROM:+0100
TZOFFSETTO:+0200
TZNAME:CEST
DTSTART:20250330T010000
END:DAYLIGHT
BEGIN:STANDARD
TZOFFSETFROM:+0200
TZOFFSETTO:+0100
TZNAME:CET
DTSTART:20251026T010000
END:STANDARD
BEGIN:DAYLIGHT
TZOFFSETFROM:+0100
TZOFFSETTO:+0200
TZNAME:CEST
DTSTART:20260329T010000
END:DAYLIGHT
BEGIN:STANDARD
TZOFFSETFROM:+0200
TZOFFSETTO:+0100
TZNAME:CET
DTSTART:20261025T010000
END:STANDARD
END:VTIMEZONE
BEGIN:VEVENT
DTSTART;TZID=Europe/Paris:20251212T163000
DTEND;TZID=Europe/Paris:20251212T183000
DTSTAMP:20260425T233615
CREATED:20251201T093858Z
LAST-MODIFIED:20251206T092623Z
UID:5083-1765557000-1765564200@lacapsetademusica.cat
SUMMARY:LA PETiTA CAPSETA 12/12
DESCRIPTION:La PETiTA CAPSETA són les nostres sessions puntuals de música en família. \nHoraris divendres 12 de desembre: \n\n16.30 PICAROLS\, infants que encara no caminen o s’hi estan iniciant (0 a 17 mesos aprox.)\n17.30 TABALETS\, infants que ja caminen amb agilitat (18 a 36 mesos aprox.)\n\nAquí tens l’enllaç a les INSCRIPCIONS \nAquí tens tots els detalls de l’ESDEVENIMENT. \n 
URL:https://lacapsetademusica.cat/calendari/la-petita-capseta-12-12/
LOCATION:L’Espai de La Capseta de Música\, Carrer de Sant Vicenç\, 37\, Reus\, Tarragona\, 43201
CATEGORIES:La Capseta de Música
END:VEVENT
BEGIN:VEVENT
DTSTART;TZID=Europe/Paris:20251220T103000
DTEND;TZID=Europe/Paris:20251220T133000
DTSTAMP:20260425T233615
CREATED:20251201T094634Z
LAST-MODIFIED:20251203T112603Z
UID:5090-1766226600-1766237400@lacapsetademusica.cat
SUMMARY:Taller d'art en família - L'ARTELIER
DESCRIPTION:Teixint el Nadal! \nÚltim taller familiar del trimestre. Art tèxtil per crear i gaudir en família. \n\n10.30 a 11.30 h – infants de 2 a 4 anys\n12.00 a 13.15 h – infants de 5 a 10 anys\n\nInscripcions al 676 004 601 \nPreu: 28€ infant i adult \nInstagram \n  \n 
URL:https://lacapsetademusica.cat/calendari/taller-dart-en-familia-lartelier/
LOCATION:L’Espai de La Capseta de Música\, Carrer de Sant Vicenç\, 37\, Reus\, Tarragona\, 43201
CATEGORIES:Col·laboracions al nostre Espai
END:VEVENT
END:VCALENDAR