BEGIN:VCALENDAR
VERSION:2.0
PRODID:-//La CAPSETA de MÚSICA - ECPv6.15.20//NONSGML v1.0//EN
CALSCALE:GREGORIAN
METHOD:PUBLISH
X-WR-CALNAME:La CAPSETA de MÚSICA
X-ORIGINAL-URL:https://lacapsetademusica.cat
X-WR-CALDESC:Esdeveniments per La CAPSETA de MÚSICA
REFRESH-INTERVAL;VALUE=DURATION:PT1H
X-Robots-Tag:noindex
X-PUBLISHED-TTL:PT1H
BEGIN:VTIMEZONE
TZID:Europe/Paris
BEGIN:DAYLIGHT
TZOFFSETFROM:+0100
TZOFFSETTO:+0200
TZNAME:CEST
DTSTART:20250330T010000
END:DAYLIGHT
BEGIN:STANDARD
TZOFFSETFROM:+0200
TZOFFSETTO:+0100
TZNAME:CET
DTSTART:20251026T010000
END:STANDARD
BEGIN:DAYLIGHT
TZOFFSETFROM:+0100
TZOFFSETTO:+0200
TZNAME:CEST
DTSTART:20260329T010000
END:DAYLIGHT
BEGIN:STANDARD
TZOFFSETFROM:+0200
TZOFFSETTO:+0100
TZNAME:CET
DTSTART:20261025T010000
END:STANDARD
BEGIN:DAYLIGHT
TZOFFSETFROM:+0100
TZOFFSETTO:+0200
TZNAME:CEST
DTSTART:20270328T010000
END:DAYLIGHT
BEGIN:STANDARD
TZOFFSETFROM:+0200
TZOFFSETTO:+0100
TZNAME:CET
DTSTART:20271031T010000
END:STANDARD
END:VTIMEZONE
BEGIN:VEVENT
DTSTART;TZID=Europe/Paris:20260214T113000
DTEND;TZID=Europe/Paris:20260214T123000
DTSTAMP:20260425T234016
CREATED:20251219T132042Z
LAST-MODIFIED:20260126T074823Z
UID:5237-1771068600-1771072200@lacapsetademusica.cat
SUMMARY:LA PETiTA CAPSETA 14/02/26
DESCRIPTION:La PETiTA CAPSETA són les nostres sessions puntuals de música en família. \nHorari: \n\n10.30 h: infants que encara no caminen o s’hi estan iniciant (0 a 17 mesos aprox.)\n11.45 h. infants que ja caminen amb agilitat (de 18 mesos en endavant\, aprox.)\n\nDurada 45 minuts \nAquí tens l’enllaç a les INSCRIPCIONS \nAquí tens tots els detalls de l’ESDEVENIMENT. \n 
URL:https://lacapsetademusica.cat/calendari/la-petita-capseta-14-02-26/
LOCATION:L’Espai de La Capseta de Música\, Carrer de Sant Vicenç\, 37\, Reus\, Tarragona\, 43201
CATEGORIES:La Capseta de Música
END:VEVENT
BEGIN:VEVENT
DTSTART;TZID=Europe/Paris:20260221T103000
DTEND;TZID=Europe/Paris:20260221T133000
DTSTAMP:20260425T234016
CREATED:20251202T115213Z
LAST-MODIFIED:20251209T103247Z
UID:5142-1771669800-1771680600@lacapsetademusica.cat
SUMMARY:Taller d'art en família - L'ARTELIER
DESCRIPTION:Taller familiar d’art i creativitat amb les noies de l’Artelier. \n\n10.30 a 11.30 h – infants de 2 a 4 anys\n12.00 a 13.15 h – infants de 5 a 10 anys\n\nInscripcions al 676 004 601 \nInstagram \n 
URL:https://lacapsetademusica.cat/calendari/taller-dart-en-familia-lartelier-2/
LOCATION:L’Espai de La Capseta de Música\, Carrer de Sant Vicenç\, 37\, Reus\, Tarragona\, 43201
CATEGORIES:Col·laboracions al nostre Espai
END:VEVENT
BEGIN:VEVENT
DTSTART;TZID=Europe/Paris:20260223T103000
DTEND;TZID=Europe/Paris:20260223T113000
DTSTAMP:20260425T234016
CREATED:20251209T102349Z
LAST-MODIFIED:20251209T102349Z
UID:5217-1771842600-1771846200@lacapsetademusica.cat
SUMMARY:Música en família a la bebeteca del Centre de Lectura
DESCRIPTION:
URL:https://lacapsetademusica.cat/calendari/musica-en-familia-a-la-bebeteca-del-centre-de-lectura/
LOCATION:Centre de Lectura de Reus\, C. Major\, 15\, Reus\, 43201
CATEGORIES:La Capseta surt a fer tallers
END:VEVENT
BEGIN:VEVENT
DTSTART;TZID=Europe/Paris:20260228T100000
DTEND;TZID=Europe/Paris:20260228T120000
DTSTAMP:20260425T234016
CREATED:20260217T124428Z
LAST-MODIFIED:20260217T124428Z
UID:5543-1772272800-1772280000@lacapsetademusica.cat
SUMMARY:Racó dels instruments a Les Dríades
DESCRIPTION:JORNADA DE PORTES OBERTES A LES DRÍADES \nLes Dríades és un espai d’educació viva a la natura\, per a infants de 0 a 6 anys\, a Castellvell del Camp. Per definir-se elles afirmen: “Gaudim de la pedagogia del sentit comú”. \nDurant la jornada de portes obertes hi serem presents amb el nostre “Racó dels instruments”. \nSeguiu-les o poseu-vos-hi en contacte per tal de conèixer tots els detalls de la jornada: \nIG: https://www.instagram.com/les_driades?igsh=MXR5d2ttcjJvaDFybw== \nTelèfon de contacte: 615 454 647
URL:https://lacapsetademusica.cat/calendari/raco-dels-instruments-a-les-driades/
LOCATION:Les Dríades – Llar de criança\, Camí de les Serres\, 43\, Castellvell del Camp
CATEGORIES:La Capseta surt a fer tallers
END:VEVENT
BEGIN:VEVENT
DTSTART;TZID=Europe/Paris:20260314T103000
DTEND;TZID=Europe/Paris:20260314T123000
DTSTAMP:20260425T234016
CREATED:20251219T132147Z
LAST-MODIFIED:20260127T094342Z
UID:5240-1773484200-1773491400@lacapsetademusica.cat
SUMMARY:LA PETiTA CAPSETA 14/03/26
DESCRIPTION:La PETiTA CAPSETA són les nostres sessions puntuals de música en família. \nHorari: \n\n10.30 h: infants que encara no caminen o s’hi estan iniciant (0 a 17 mesos aprox.)\n11.45 h. infants que ja caminen amb agilitat (de 18 mesos en endavant\, aprox.)\n\nDurada 45 minuts \nAquí tens l’enllaç a les INSCRIPCIONS \nAquí tens tots els detalls de l’ESDEVENIMENT. \n 
URL:https://lacapsetademusica.cat/calendari/la-petita-capseta-14-03-26/
LOCATION:L’Espai de La Capseta de Música\, Carrer de Sant Vicenç\, 37\, Reus\, Tarragona\, 43201
CATEGORIES:La Capseta de Música
END:VEVENT
BEGIN:VEVENT
DTSTART;TZID=Europe/Paris:20260327T173000
DTEND;TZID=Europe/Paris:20260327T190000
DTSTAMP:20260425T234016
CREATED:20260318T145711Z
LAST-MODIFIED:20260320T193421Z
UID:5633-1774632600-1774638000@lacapsetademusica.cat
SUMMARY:HOLA! primavera
DESCRIPTION:Petit concert de benvinguda de la primavera seguit d’una estona de joc lliure amb els instruments de La Capseta de Música. Adreçat a famílies amb infants de 0 a 5 anys. \nUna tarda distreta per encetar les vacances amb molt de ritme. \n Divendres\, 27 de març \n🕐17.30 a 19.00 h \nC. Sant Vicenç\, 37\, Reus La Capseta de Música \n💶Preus: \n· 1 infant + 1 adult: 15€ \n· 1 infant + 2 adults: 20€ \n📝Inscripcions \n\n❗Places limitades: \n· L’assignació de places es farà per ordre d’inscripció \n· Si cal\, elaborarem una llista d’espera \n· Si teniu plaça i al final no podeu venir\, sisplau aviseu de seguida: info@lacpasetademusica.cat – 605 386 586 Núria \n 
URL:https://lacapsetademusica.cat/calendari/hola-primavers/
LOCATION:L’Espai de La Capseta de Música\, Carrer de Sant Vicenç\, 37\, Reus\, Tarragona\, 43201
CATEGORIES:La Capseta de Música
END:VEVENT
BEGIN:VEVENT
DTSTART;TZID=Europe/Paris:20260328T113000
DTEND;TZID=Europe/Paris:20260328T130000
DTSTAMP:20260425T234016
CREATED:20260320T192010Z
LAST-MODIFIED:20260320T213347Z
UID:5643-1774697400-1774702800@lacapsetademusica.cat
SUMMARY:BANY DE SO: cant de mantres
DESCRIPTION:CELEBREM LA PRIMAVERA \nAquesta sessió és una invitació per celebrar l’arribada de la primavera així com els canvis de cicles a través de la vibració en grup. Un espai per deixar anar allò que ja no ens fa falta i conectar amb l’energia d’expansió i obertura. \nCelebrem la vida que arriba i aflora! \nPrepararem el cos a través de la vibració interna que apareix amb el cant de mantres per\, més endavant\, entrar en un estat de relaxació i meditació sonora acompanyat per diversos instruments com els bols tibetans\, gong\, shurti i altres. \nUn espai que ens permet calmar el sistema nerviós i alliberar i desbloquejar tensions acumulades. \n📆Dissabte\, 28 de març \n🕐11.30 a 13.00 h \n📍 L’Espai de La Capseta de Música C. Sant Vicenç\, 37\, Reus \n💶 20€ \nℹ️📝630 540 143 \nPlaces limitades \nA càrrec de Carmen Griffiths Romano. \nLa Carmen investiga i explora la relació entre natura\, vibració i moviment. \nHa estudiat ciències ambientals\, piano\, guitarra i cant. \nFa més de 10 anys que estudia i practica ioga\, sent aquesta una pràctica que forma part de la seva vida. També s’ha format en musicoteràpia de la veu\, cant de mantres i Dhrupad al Nepal i a la Índia. \nHa participat de diverses formacions i retirs de cant\, moviment lliure\, música medicina\, xamanisme\, ecologia profunda\, economia feminista i facilitació de grups. En els últims anys ha acompanyat diversos grups a descobrir i relacionar-se amb la seva veu des de l’amor i el respecte. \nConsidera la música un llenguatge ancestral i universal així com una font de salut\, alegria i transformació social.
URL:https://lacapsetademusica.cat/calendari/bany-de-so-cant-de-mantres/
LOCATION:L’Espai de La Capseta de Música\, Carrer de Sant Vicenç\, 37\, Reus\, Tarragona\, 43201
CATEGORIES:Col·laboracions al nostre Espai
END:VEVENT
BEGIN:VEVENT
DTSTART;TZID=Europe/Paris:20260410T170000
DTEND;TZID=Europe/Paris:20260410T190000
DTSTAMP:20260425T234016
CREATED:20260330T102536Z
LAST-MODIFIED:20260331T182510Z
UID:5672-1775840400-1775847600@lacapsetademusica.cat
SUMMARY:TALLERS PLA EDUCATIU D'ENTORN DE REUS
DESCRIPTION:Sessions de música en família per a infants de 0 a 3 anys (infantil 0\, 1 i 2). \nDivendres\, 10 d’abril \n16.00 a 16.45 h 1r torn – 17.00 a 17.45 h 2n torn \n EBM el Lligabosc\, C. d’Apel·les Mestres\, 39 – Reus \n Gratuït \n Places limitades
URL:https://lacapsetademusica.cat/calendari/tallers-pla-educatiu-dentorn-de-reus/
LOCATION:EBM El Lligabosc\, C. d'Apel·les Mestres\, 39\, Reus
CATEGORIES:La Capseta surt a fer tallers
END:VEVENT
BEGIN:VEVENT
DTSTART;TZID=Europe/Paris:20260411T103000
DTEND;TZID=Europe/Paris:20260411T123000
DTSTAMP:20260425T234016
CREATED:20260131T160818Z
LAST-MODIFIED:20260309T074245Z
UID:5506-1775903400-1775910600@lacapsetademusica.cat
SUMMARY:LA PETiTA CAPSETA 11/04/26
DESCRIPTION:La PETiTA CAPSETA són les nostres sessions puntuals de música en família. \nHoraris:: \n\n1r torn: 10.30 h\n2n torn: 11.45 h\n\nDurada 45 minuts \nAquí tens l’enllaç a les INSCRIPCIONS \nAquí tens tots els detalls de l’ESDEVENIMENT.
URL:https://lacapsetademusica.cat/calendari/la-petita-capseta-11-04-26/
LOCATION:Tarragona
CATEGORIES:La Capseta de Música
END:VEVENT
BEGIN:VEVENT
DTSTART;TZID=Europe/Paris:20260412T100000
DTEND;TZID=Europe/Paris:20260412T120000
DTSTAMP:20260425T234016
CREATED:20260406T203913Z
LAST-MODIFIED:20260406T205221Z
UID:5762-1775988000-1775995200@lacapsetademusica.cat
SUMMARY:MÚSICA EN FAMÍLIA A RIUDOMS
DESCRIPTION:Taller de música en família a Riudoms \n Diumenge 12 d’abril\n Espai Aresta\, Avinguda de Pau Casals\, 11\, Riudoms\n️ Dos grups:\n– 10.00 h\n– 11.15 h\n 25€ infant + adult\n espaiaresta@gmail.com \nOrganitza: ESPAI ARESTA
URL:https://lacapsetademusica.cat/calendari/musica-en-familia-a-riudoms/
LOCATION:Espai Aresta\, Avinguda Pau Casals\, 11\, Riudoms\, 43330
CATEGORIES:La Capseta surt a fer tallers
END:VEVENT
BEGIN:VEVENT
DTSTART;TZID=Europe/Paris:20260417T190000
DTEND;TZID=Europe/Paris:20260417T210000
DTSTAMP:20260425T234016
CREATED:20260410T184326Z
LAST-MODIFIED:20260410T184708Z
UID:5771-1776452400-1776459600@lacapsetademusica.cat
SUMMARY:BANY DE SO i CANT DE MANTRES
DESCRIPTION:Si et vas quedar amb ganes de repetir o no vas poder venir\, ens tornem a trobar per compartir un vespre a través del cant de mantres i la meditació sonora! \nAmb molta il·lusió la Carmen ens convida\, de nou\, a provar una experiència a través del so i la vibració. Obrim la veu\, concert meditatiu\, música pel cor. \n\n📆Divendres\, 17 d’abril \n🕐19.00 a 21.00 h \n📍 L’Espai de La Capseta de Música C. Sant Vicenç\, 37\, Reus \n💶 20€ \nℹ️📝630 540 143 – Places limitades \n  \nI\, si t’agrada la proposta tant com a nosaltres\, estàs d’enhorabona: ja pots reservar-te el dia de la propera sessió\, que serà el diumenge 17 de maig al matí. \n\nA càrrec de Carmen Griffiths Romano. \nLa Carmen investiga i explora la relació entre natura\, vibració i moviment. \nHa estudiat ciències ambientals\, piano\, guitarra i cant. \nFa més de 10 anys que estudia i practica ioga\, sent aquesta una pràctica que forma part de la seva vida. També s’ha format en musicoteràpia de la veu\, cant de mantres i Dhrupad al Nepal i a la Índia. \nHa participat de diverses formacions i retirs de cant\, moviment lliure\, música medicina\, xamanisme\, ecologia profunda\, economia feminista i facilitació de grups. En els últims anys ha acompanyat diversos grups a descobrir i relacionar-se amb la seva veu des de l’amor i el respecte. \nConsidera la música un llenguatge ancestral i universal així com una font de salut\, alegria i transformació social.
URL:https://lacapsetademusica.cat/calendari/bany-de-so-i-cant-de-mantres/
LOCATION:L’Espai de La Capseta de Música\, Carrer de Sant Vicenç\, 37\, Reus\, Tarragona\, 43201
CATEGORIES:Col·laboracions al nostre Espai
END:VEVENT
BEGIN:VEVENT
DTSTART;TZID=Europe/Paris:20260418T110000
DTEND;TZID=Europe/Paris:20260418T120000
DTSTAMP:20260425T234016
CREATED:20260331T135152Z
LAST-MODIFIED:20260331T135152Z
UID:5685-1776510000-1776513600@lacapsetademusica.cat
SUMMARY:JUGUEM AMB LA VEU - sensibilització musical infants 3 a 5 anys
DESCRIPTION:Cantar és per tothom\nQuan obrim la veu\, ens obrim al món. \nEn aquestes sessions jugarem\, cantarem i improvisarem amb la veu. \nExplorarem diferents emocions com a fil conductor per a expressar-nos amb el cos i la veu. \nAdreçat a infants de 3 a 5 anys amb la presència de l’adult i conduïda per la Carmen Griffiths Romano. \n. \n Dissabte 18 d’abril (i 23 de maig) \n11.00 a 12.00 h \n L’Espai de La Capseta de Música\, C. St. Vicenç\, 37– Reus \n 15€ \n Places limitades: reserves al 630 540 143 \n 
URL:https://lacapsetademusica.cat/calendari/juguem-amb-la-veu-sensibilitzacio-musical-infants-3-a-5-anys-2/
LOCATION:L’Espai de La Capseta de Música\, Carrer de Sant Vicenç\, 37\, Reus\, Tarragona\, 43201
CATEGORIES:Col·laboracions al nostre Espai
END:VEVENT
BEGIN:VEVENT
DTSTART;TZID=Europe/Paris:20260424T170000
DTEND;TZID=Europe/Paris:20260424T180000
DTSTAMP:20260425T234016
CREATED:20260331T185347Z
LAST-MODIFIED:20260331T185347Z
UID:5717-1777050000-1777053600@lacapsetademusica.cat
SUMMARY:Taller de ioga facial
DESCRIPTION:Per rejovenir el teu rostre i expressar la teva bellesa natural. Vine a donar-te afecte i acariciar amb amor el teu rostre per lluir-lo més jove i bonic. \nImparteix Fernanda Terán \nINSCRIPCIONS: \n\nOmple el FORMULARI\nFes el PAGAMENT\nConfirma la teva ASSISTÈNCIA\n\nIoga_facial_cat
URL:https://lacapsetademusica.cat/calendari/taller-de-ioga-facial/
LOCATION:L’Espai de La Capseta de Música\, Carrer de Sant Vicenç\, 37\, Reus\, Tarragona\, 43201
CATEGORIES:Col·laboracions al nostre Espai
END:VEVENT
BEGIN:VEVENT
DTSTART;TZID=Europe/Paris:20260424T183000
DTEND;TZID=Europe/Paris:20260424T200000
DTSTAMP:20260425T234016
CREATED:20260331T185958Z
LAST-MODIFIED:20260419T065714Z
UID:5720-1777055400-1777060800@lacapsetademusica.cat
SUMMARY:Taller de ioga Nidra
DESCRIPTION:Vine a gaudir d’una pau profunda. El son conscient que repara el teu cos\, ment i esperit. \nImparteix Fernanda Terán \nINSCRIPCIONS: \n\nOmple el FORMULARI\nFes el PAGAMENT\nConfirma la teva ASSISTÈNCIA\n\nIoga_Nidra_cat \n 
URL:https://lacapsetademusica.cat/calendari/taller-de-ioga-nidra/
LOCATION:L’Espai de La Capseta de Música\, Carrer de Sant Vicenç\, 37\, Reus\, Tarragona\, 43201
CATEGORIES:Col·laboracions al nostre Espai
END:VEVENT
BEGIN:VEVENT
DTSTART;TZID=Europe/Paris:20260425T093000
DTEND;TZID=Europe/Paris:20260425T103000
DTSTAMP:20260425T234016
CREATED:20260331T184655Z
LAST-MODIFIED:20260331T184655Z
UID:5711-1777109400-1777113000@lacapsetademusica.cat
SUMMARY:Taller de ioga en família
DESCRIPTION:Taller de ioga per a infants en família. \nConnecta\, juga i creixeu junts. Rialles\, abraçades i equilibris per a totes les edats. \nImparteix Fernanda Terán \nINSCRIPCIONS: \n\nOmple el FORMULARI\nFes el PAGAMENT\nCONFIRMA la teva assistència\n\n  \nIoga_nens_cat
URL:https://lacapsetademusica.cat/calendari/taller-de-ioga-en-familia/
LOCATION:L’Espai de La Capseta de Música\, Carrer de Sant Vicenç\, 37\, Reus\, Tarragona\, 43201
CATEGORIES:Col·laboracions al nostre Espai
END:VEVENT
BEGIN:VEVENT
DTSTART;TZID=Europe/Paris:20260426T173000
DTEND;TZID=Europe/Paris:20260426T200000
DTSTAMP:20260425T234016
CREATED:20260421T075417Z
LAST-MODIFIED:20260421T090951Z
UID:5897-1777224600-1777233600@lacapsetademusica.cat
SUMMARY:LA VEU DEL COS
DESCRIPTION:MÚSICA PER TOTHOM amb Carmen Griffiths i Zan Ivanjko \nUn espai on connectar amb el COS i la VEU a través del moviment lliure\, el joc i l’exploració; un espai on expressar-nos més enllà de les paraules. \n📆 Diumenge\, 26 d’abril \n🕐 17.30 a 20.00 h \n💶 15€ \n📝 Places limitades. Reserves a 630 540 143 \nDetalls: \n  \n \n  \nCARMEN: \nLa Carmen investiga i explora la relació entre natura\, vibració i moviment. \nHa estudiat ciències ambientals\, piano\, guitarra i cant. \nFa més de 10 anys que estudia i practica ioga\, sent aquesta una pràctica que forma part de la seva vida. També s’ha format en musicoteràpia de la veu\, cant de mantres i Dhrupad al Nepal i a la Índia. \nHa participat de diverses formacions i retirs de cant\, moviment lliure\, música medicina\, xamanisme\, ecologia profunda\, economia feminista i facilitació de grups. En els últims anys ha acompanyat diversos grups a descobrir i relacionar-se amb la seva veu des de l’amor i el respecte. \nConsidera la música un llenguatge ancestral i universal així com una font de salut\, alegria i transformació social. \nZAN: \nAmb una formació en sociologia analítica aborda la seva feina com un viatger curiós\, un amant de la connexió humana i un observador apassionat de les dinàmiques socials. \nBallarí i investigador dedicat al moviment natural\, facilita tallers de Qi Gong i dirigeix ​​sessions de moviment en grup com a part de pràctiques fisioterapèutiques per a l’alineació postural.
URL:https://lacapsetademusica.cat/calendari/la-veu-del-cos/
LOCATION:L’Espai de La Capseta de Música\, Carrer de Sant Vicenç\, 37\, Reus\, Tarragona\, 43201
CATEGORIES:Col·laboracions al nostre Espai
END:VEVENT
BEGIN:VEVENT
DTSTART;TZID=Europe/Paris:20260508T173000
DTEND;TZID=Europe/Paris:20260508T193000
DTSTAMP:20260425T234016
CREATED:20260330T103250Z
LAST-MODIFIED:20260331T182809Z
UID:5679-1778261400-1778268600@lacapsetademusica.cat
SUMMARY:TALLERS PLA EDUCATIU D'ENTORN DE REUS
DESCRIPTION:Sessions de música en família per a infants de 0 a 3 anys (infantil 0\, 1 i 2). \nDivendres\, 8 de maig \n17.30 a 18.15 h 1r torn – 18.30 a 19.15 h 2n torn \n Centre Cultural El Castell\, Plaça del Castell\, 3A- Reus \n Gratuït \n Places limitades: les inscripcions s’obriran uns dies abans al sistema d’inscripcions de l’Ajuntament de Reus
URL:https://lacapsetademusica.cat/calendari/tallers-pla-educatiu-dentorn-de-reus-2/
LOCATION:Centre Cultural El Castell\, Plaça del Castell\, 3A\, Reus
CATEGORIES:La Capseta surt a fer tallers
END:VEVENT
BEGIN:VEVENT
DTSTART;TZID=Europe/Paris:20260509T103000
DTEND;TZID=Europe/Paris:20260509T123000
DTSTAMP:20260425T234016
CREATED:20260131T160828Z
LAST-MODIFIED:20260331T121242Z
UID:5509-1778322600-1778329800@lacapsetademusica.cat
SUMMARY:LA PETiTA CAPSETA 09/05/26
DESCRIPTION:La PETiTA CAPSETA són les nostres sessions puntuals de música en família. \nHoraris:: \n\n1r torn: 10.30 h\n2n torn: 11.45 h\n\nDurada 45 minuts \nAquí tens l’enllaç a les INSCRIPCIONS \nAquí tens tots els detalls de l’ESDEVENIMENT.
URL:https://lacapsetademusica.cat/calendari/la-petita-capseta-09-05-26/
LOCATION:L’Espai de La Capseta de Música\, Carrer de Sant Vicenç\, 37\, Reus\, Tarragona\, 43201
CATEGORIES:La Capseta de Música
END:VEVENT
BEGIN:VEVENT
DTSTART;TZID=Europe/Paris:20260515T170000
DTEND;TZID=Europe/Paris:20260515T190000
DTSTAMP:20260425T234016
CREATED:20260415T191920Z
LAST-MODIFIED:20260415T191920Z
UID:5803-1778864400-1778871600@lacapsetademusica.cat
SUMMARY:LA PETiTA CAPSETA - 15/05/2026
DESCRIPTION:La PETiTA CAPSETA són les nostres sessions puntuals de música en família. \nHoraris:: \n\n1r torn: 17.00 h\n2n torn: 18.00 h\n\nDurada 45 minuts \nAquí tens l’enllaç a les INSCRIPCIONS \n \n 
URL:https://lacapsetademusica.cat/calendari/la-petita-capseta-15-05-2026/
LOCATION:L’Espai de La Capseta de Música\, Carrer de Sant Vicenç\, 37\, Reus\, Tarragona\, 43201
CATEGORIES:La Capseta de Música
END:VEVENT
BEGIN:VEVENT
DTSTART;TZID=Europe/Paris:20260516T103000
DTEND;TZID=Europe/Paris:20260516T133000
DTSTAMP:20260425T234016
CREATED:20251202T115552Z
LAST-MODIFIED:20260331T121126Z
UID:5149-1778927400-1778938200@lacapsetademusica.cat
SUMMARY:Taller d'art en família - L'ARTELIER
DESCRIPTION:Taller d’art i creativitat en família. \n\n10.30 a 11.30 h – infants de 2 a 4 anys\n12.00 a 13.15 h – infants de 5 a 10 anys\n\nInscripcions al 676 004 601 \nInstagram
URL:https://lacapsetademusica.cat/calendari/taller-dart-en-familia-lartelier-5/
LOCATION:L’Espai de La Capseta de Música\, Carrer de Sant Vicenç\, 37\, Reus\, Tarragona\, 43201
CATEGORIES:Col·laboracions al nostre Espai
END:VEVENT
BEGIN:VEVENT
DTSTART;TZID=Europe/Paris:20260523T110000
DTEND;TZID=Europe/Paris:20260523T120000
DTSTAMP:20260425T234016
CREATED:20260331T120836Z
LAST-MODIFIED:20260331T140146Z
UID:5687-1779534000-1779537600@lacapsetademusica.cat
SUMMARY:JUGUEM AMB LA VEU - sensibilització musical infants 3 a 5 anys
DESCRIPTION:Cantar és per tothom\nQuan obrim la veu\, ens obrim al món. \nEn aquestes sessions jugarem\, cantarem i improvisarem amb la veu. \nExplorarem diferents emocions com a fil conductor per a expressar-nos amb el cos i la veu. \nAdreçat a infants de 3 a 5 anys amb la presència de l’adult i conduïda per la Carmen Griffiths Romano. \n. \n Dissabte 23 de maig \n11.00 a 12.00 h \n L’Espai de La Capseta de Música\, C. St. Vicenç\, 37– Reus \n 15€ \n Places limitades: reserves al 630 540 143 \n 
URL:https://lacapsetademusica.cat/calendari/juguem-amb-la-veu-sensibilitzacio-musical-infants-3-a-5-anys/
LOCATION:L’Espai de La Capseta de Música\, Carrer de Sant Vicenç\, 37\, Reus\, Tarragona\, 43201
CATEGORIES:Col·laboracions al nostre Espai
END:VEVENT
BEGIN:VEVENT
DTSTART;TZID=Europe/Paris:20260613T103000
DTEND;TZID=Europe/Paris:20260613T123000
DTSTAMP:20260425T234016
CREATED:20260131T160837Z
LAST-MODIFIED:20260331T120643Z
UID:5512-1781346600-1781353800@lacapsetademusica.cat
SUMMARY:LA PETiTA CAPSETA 13/06/26
DESCRIPTION:La PETiTA CAPSETA són les nostres sessions puntuals de música en família. \nHoraris: \n\n1r torn: 10.30 h\n2n torn: 11.45 h\n\nDurada 45 minuts \nAquí tens l’enllaç a les INSCRIPCIONS \nAquí tens tots els detalls de l’ESDEVENIMENT.
URL:https://lacapsetademusica.cat/calendari/la-petita-capseta-13-06-26/
LOCATION:L’Espai de La Capseta de Música\, Carrer de Sant Vicenç\, 37\, Reus\, Tarragona\, 43201
CATEGORIES:La Capseta de Música
END:VEVENT
END:VCALENDAR