BEGIN:VCALENDAR
VERSION:2.0
PRODID:-//La CAPSETA de MÚSICA - ECPv6.15.20//NONSGML v1.0//EN
CALSCALE:GREGORIAN
METHOD:PUBLISH
X-WR-CALNAME:La CAPSETA de MÚSICA
X-ORIGINAL-URL:https://lacapsetademusica.cat
X-WR-CALDESC:Esdeveniments per La CAPSETA de MÚSICA
REFRESH-INTERVAL;VALUE=DURATION:PT1H
X-Robots-Tag:noindex
X-PUBLISHED-TTL:PT1H
BEGIN:VTIMEZONE
TZID:Europe/Paris
BEGIN:DAYLIGHT
TZOFFSETFROM:+0100
TZOFFSETTO:+0200
TZNAME:CEST
DTSTART:20250330T010000
END:DAYLIGHT
BEGIN:STANDARD
TZOFFSETFROM:+0200
TZOFFSETTO:+0100
TZNAME:CET
DTSTART:20251026T010000
END:STANDARD
BEGIN:DAYLIGHT
TZOFFSETFROM:+0100
TZOFFSETTO:+0200
TZNAME:CEST
DTSTART:20260329T010000
END:DAYLIGHT
BEGIN:STANDARD
TZOFFSETFROM:+0200
TZOFFSETTO:+0100
TZNAME:CET
DTSTART:20261025T010000
END:STANDARD
BEGIN:DAYLIGHT
TZOFFSETFROM:+0100
TZOFFSETTO:+0200
TZNAME:CEST
DTSTART:20270328T010000
END:DAYLIGHT
BEGIN:STANDARD
TZOFFSETFROM:+0200
TZOFFSETTO:+0100
TZNAME:CET
DTSTART:20271031T010000
END:STANDARD
END:VTIMEZONE
BEGIN:VEVENT
DTSTART;TZID=Europe/Paris:20260425T093000
DTEND;TZID=Europe/Paris:20260425T103000
DTSTAMP:20260425T172845
CREATED:20260331T184655Z
LAST-MODIFIED:20260331T184655Z
UID:5711-1777109400-1777113000@lacapsetademusica.cat
SUMMARY:Taller de ioga en família
DESCRIPTION:Taller de ioga per a infants en família. \nConnecta\, juga i creixeu junts. Rialles\, abraçades i equilibris per a totes les edats. \nImparteix Fernanda Terán \nINSCRIPCIONS: \n\nOmple el FORMULARI\nFes el PAGAMENT\nCONFIRMA la teva assistència\n\n  \nIoga_nens_cat
URL:https://lacapsetademusica.cat/calendari/taller-de-ioga-en-familia/
LOCATION:L’Espai de La Capseta de Música\, Carrer de Sant Vicenç\, 37\, Reus\, Tarragona\, 43201
CATEGORIES:Col·laboracions al nostre Espai
END:VEVENT
END:VCALENDAR