BEGIN:VCALENDAR
VERSION:2.0
PRODID:-//La CAPSETA de MÚSICA - ECPv6.15.20//NONSGML v1.0//EN
CALSCALE:GREGORIAN
METHOD:PUBLISH
X-WR-CALNAME:La CAPSETA de MÚSICA
X-ORIGINAL-URL:https://lacapsetademusica.cat
X-WR-CALDESC:Esdeveniments per La CAPSETA de MÚSICA
REFRESH-INTERVAL;VALUE=DURATION:PT1H
X-Robots-Tag:noindex
X-PUBLISHED-TTL:PT1H
BEGIN:VTIMEZONE
TZID:Europe/Paris
BEGIN:DAYLIGHT
TZOFFSETFROM:+0100
TZOFFSETTO:+0200
TZNAME:CEST
DTSTART:20250330T010000
END:DAYLIGHT
BEGIN:STANDARD
TZOFFSETFROM:+0200
TZOFFSETTO:+0100
TZNAME:CET
DTSTART:20251026T010000
END:STANDARD
BEGIN:DAYLIGHT
TZOFFSETFROM:+0100
TZOFFSETTO:+0200
TZNAME:CEST
DTSTART:20260329T010000
END:DAYLIGHT
BEGIN:STANDARD
TZOFFSETFROM:+0200
TZOFFSETTO:+0100
TZNAME:CET
DTSTART:20261025T010000
END:STANDARD
BEGIN:DAYLIGHT
TZOFFSETFROM:+0100
TZOFFSETTO:+0200
TZNAME:CEST
DTSTART:20270328T010000
END:DAYLIGHT
BEGIN:STANDARD
TZOFFSETFROM:+0200
TZOFFSETTO:+0100
TZNAME:CET
DTSTART:20271031T010000
END:STANDARD
END:VTIMEZONE
BEGIN:VEVENT
DTSTART;TZID=Europe/Paris:20260410T170000
DTEND;TZID=Europe/Paris:20260410T190000
DTSTAMP:20260425T185638
CREATED:20260330T102536Z
LAST-MODIFIED:20260331T182510Z
UID:5672-1775840400-1775847600@lacapsetademusica.cat
SUMMARY:TALLERS PLA EDUCATIU D'ENTORN DE REUS
DESCRIPTION:Sessions de música en família per a infants de 0 a 3 anys (infantil 0\, 1 i 2). \nDivendres\, 10 d’abril \n16.00 a 16.45 h 1r torn – 17.00 a 17.45 h 2n torn \n EBM el Lligabosc\, C. d’Apel·les Mestres\, 39 – Reus \n Gratuït \n Places limitades
URL:https://lacapsetademusica.cat/calendari/tallers-pla-educatiu-dentorn-de-reus/
LOCATION:EBM El Lligabosc\, C. d'Apel·les Mestres\, 39\, Reus
CATEGORIES:La Capseta surt a fer tallers
END:VEVENT
END:VCALENDAR