BEGIN:VCALENDAR
VERSION:2.0
PRODID:-//La CAPSETA de MÚSICA - ECPv6.15.20//NONSGML v1.0//EN
CALSCALE:GREGORIAN
METHOD:PUBLISH
X-ORIGINAL-URL:https://lacapsetademusica.cat
X-WR-CALDESC:Esdeveniments per La CAPSETA de MÚSICA
REFRESH-INTERVAL;VALUE=DURATION:PT1H
X-Robots-Tag:noindex
X-PUBLISHED-TTL:PT1H
BEGIN:VTIMEZONE
TZID:Europe/Paris
BEGIN:DAYLIGHT
TZOFFSETFROM:+0100
TZOFFSETTO:+0200
TZNAME:CEST
DTSTART:20250330T010000
END:DAYLIGHT
BEGIN:STANDARD
TZOFFSETFROM:+0200
TZOFFSETTO:+0100
TZNAME:CET
DTSTART:20251026T010000
END:STANDARD
BEGIN:DAYLIGHT
TZOFFSETFROM:+0100
TZOFFSETTO:+0200
TZNAME:CEST
DTSTART:20260329T010000
END:DAYLIGHT
BEGIN:STANDARD
TZOFFSETFROM:+0200
TZOFFSETTO:+0100
TZNAME:CET
DTSTART:20261025T010000
END:STANDARD
BEGIN:DAYLIGHT
TZOFFSETFROM:+0100
TZOFFSETTO:+0200
TZNAME:CEST
DTSTART:20270328T010000
END:DAYLIGHT
BEGIN:STANDARD
TZOFFSETFROM:+0200
TZOFFSETTO:+0100
TZNAME:CET
DTSTART:20271031T010000
END:STANDARD
END:VTIMEZONE
BEGIN:VEVENT
DTSTART;TZID=Europe/Paris:20260131T100000
DTEND;TZID=Europe/Paris:20260131T123000
DTSTAMP:20260425T220334
CREATED:20251219T144759Z
LAST-MODIFIED:20260113T214129Z
UID:5253-1769853600-1769862600@lacapsetademusica.cat
SUMMARY:Xerrada primers auxilis infantils
DESCRIPTION:Xerrada impartida per Laura Solé de SANITAREA \nLa Laura imparteix formacions des que\, l’any 2015\, va crear el projecte Sanitarea.\n\nA la xerrada ens parlarà principalment dels accidents infantils\, dels episodis de febre i convulsions febrils i dels ennuegaments (amb demostració pràctica).\n\nDissabte\, 31 de gener de 2026\nHorari: 10.30 a 12.00 o 12.30 h\nC. Sant Vicenç\, 37\, Reus\nPreu:\n\n\n20€ persona\n30€ parella\n\nPlaces limitades\nINSCRIPCIONS
URL:https://lacapsetademusica.cat/calendari/reserveu-vos-la-data/
LOCATION:L’Espai de La Capseta de Música\, Carrer de Sant Vicenç\, 37\, Reus\, Tarragona\, 43201
CATEGORIES:Organtiza La Capseta de Música
END:VEVENT
END:VCALENDAR