BEGIN:VCALENDAR
VERSION:2.0
PRODID:-//La CAPSETA de MÚSICA - ECPv6.15.20//NONSGML v1.0//EN
CALSCALE:GREGORIAN
METHOD:PUBLISH
X-WR-CALNAME:La CAPSETA de MÚSICA
X-ORIGINAL-URL:https://lacapsetademusica.cat
X-WR-CALDESC:Esdeveniments per La CAPSETA de MÚSICA
REFRESH-INTERVAL;VALUE=DURATION:PT1H
X-Robots-Tag:noindex
X-PUBLISHED-TTL:PT1H
BEGIN:VTIMEZONE
TZID:Europe/Paris
BEGIN:DAYLIGHT
TZOFFSETFROM:+0100
TZOFFSETTO:+0200
TZNAME:CEST
DTSTART:20250330T010000
END:DAYLIGHT
BEGIN:STANDARD
TZOFFSETFROM:+0200
TZOFFSETTO:+0100
TZNAME:CET
DTSTART:20251026T010000
END:STANDARD
BEGIN:DAYLIGHT
TZOFFSETFROM:+0100
TZOFFSETTO:+0200
TZNAME:CEST
DTSTART:20260329T010000
END:DAYLIGHT
BEGIN:STANDARD
TZOFFSETFROM:+0200
TZOFFSETTO:+0100
TZNAME:CET
DTSTART:20261025T010000
END:STANDARD
BEGIN:DAYLIGHT
TZOFFSETFROM:+0100
TZOFFSETTO:+0200
TZNAME:CEST
DTSTART:20270328T010000
END:DAYLIGHT
BEGIN:STANDARD
TZOFFSETFROM:+0200
TZOFFSETTO:+0100
TZNAME:CET
DTSTART:20271031T010000
END:STANDARD
END:VTIMEZONE
BEGIN:VEVENT
DTSTART;TZID=Europe/Paris:20260112T163000
DTEND;TZID=Europe/Paris:20260113T200000
DTSTAMP:20260425T233534
CREATED:20251228T125756Z
LAST-MODIFIED:20260127T085044Z
UID:5273-1768235400-1768334400@lacapsetademusica.cat
SUMMARY:Inici trimestre gener a març 2026
DESCRIPTION:El segon trimestre del curs 2025/2026 va del 12 de gener fins al 26 de març. \nAls canvis de trimestre és una bona oportunitat per a tenir plaça perquè hi sol haver algunes vacants. Tot i això\, recordeu que les inscripcions estan sempre obertes i\, com que funcionem amb llista d’espera\, podria ser que si feu la sol·licitud de plaça just al moment del canvi de trimestre\, no us poguéssim assignar plaça perquè ja hi ha alguna família inscrita davant vostre. \nSempre és\, doncs\, bon moment per a fer la sol·licitud d’inscripció: Quan i on – La CAPSETA de MÚSICA Perquè també us podem assignar plaça en qualsevol moment\, encara que el trimestre ja estigui començat (llavors us ajustem el preu).
URL:https://lacapsetademusica.cat/calendari/inici-trimestre-gener-a-marc-2026/
LOCATION:L’Espai de La Capseta de Música\, Carrer de Sant Vicenç\, 37\, Reus\, Tarragona\, 43201
CATEGORIES:La Capseta de Música
END:VEVENT
END:VCALENDAR